BEGIN:VCALENDAR
VERSION:2.0
PRODID:-//https://stellarton.ca//NONSGML kigkonsult.se iCalcreator 2.29.29/
 /
CALSCALE:GREGORIAN
METHOD:PUBLISH
UID:b1aeea5d-cfa9-49b0-a9f1-8018a6878978
X-WR-CALNAME:JCal Pro Calendar
X-WR-CALDESC:Your online events calendar
X-WR-TIMEZONE:America/Halifax
BEGIN:VTIMEZONE
TZID:America/Halifax
BEGIN:STANDARD
TZNAME:AST
DTSTART:20251102T020000
TZOFFSETFROM:-0300
TZOFFSETTO:-0400
RDATE:20261101T020000
END:STANDARD
BEGIN:DAYLIGHT
TZNAME:ADT
DTSTART:20260308T020000
TZOFFSETFROM:-0400
TZOFFSETTO:-0300
RDATE:20270314T020000
END:DAYLIGHT
END:VTIMEZONE
BEGIN:VEVENT
UID:20171205T070000AST-7087cjUrTo@http://localhost:8888/stellarton/
DTSTAMP:20260422T095719Z
CATEGORIES:Special Events
DESCRIPTION:<p>Tomorrow is the last day to take the Survey to help guide th
 e planning committees work?&nbsp\;</p>\n<p>Only 10 Questions</p>
DTSTART;TZID=America/Halifax:20171205T000000
DTEND;TZID=America/Halifax:20171205T235959
SUMMARY:Take the Survey
URL:https://stellarton.ca/38-special-events/5815-take-the-survey.html
X-ALT-DESC;FMTTYPE=TEXT/HTML:<p>Tomorrow is the last day to take the Survey
  to help guide the planning committees work?&nbsp\;</p>\n<p>Only 10 Questi
 ons</p>
END:VEVENT
BEGIN:VEVENT
UID:20211025T173000ADT-44860Se5cL@https://stellarton.ca/
DTSTAMP:20260422T095719Z
CATEGORIES:Committee Meetings
DESCRIPTION:<p>For full meeting agenda:&nbsp\;<a href='https://bit.ly/3jjMx
 m8'>https://bit.ly/3jjMxm8</a></p>
DTSTART;TZID=America/Halifax:20211025T173000
DTEND;TZID=America/Halifax:20211025T183000
SUMMARY:Committee of the Whole
URL:https://stellarton.ca/37-monthly-meetings/5936-committee-of-the-whole.h
 tml
X-ALT-DESC;FMTTYPE=TEXT/HTML:<p>For full meeting agenda:&nbsp\;<a href='htt
 ps://bit.ly/3jjMxm8'>https://bit.ly/3jjMxm8</a></p>
END:VEVENT
BEGIN:VEVENT
UID:20211030T090000ADT-8068Ojkuwu@https://stellarton.ca/
DTSTAMP:20260422T095719Z
CATEGORIES:Special Events
DESCRIPTION:<p>The Towns of New Glasgow &amp\; Stellarton will be hosting a
  Halloween Hike complete with pumpkin carving on the Albion and Samson Tra
 ils.</p>\n<p>Participants will meet at Sobeys Head Office (123 North Foord
  Street) at 9:00am and will walk 2km out and back (4km total). Pumpkin car
 ving will take place at Rotary Park before returning to Sobeys Head Office
 .</p>\n<p>Pre-registration is required. To register\, contact (902) 755-83
 63 or <!-- This email address is being protected from spambots. --><a href
 ='javascript:/* This email address is being protected from spambots.*/'><s
 pan class='cloaked_email ep_043a9d4a'><span data-ep-b='w&#46\;&#99\;&#97\;
 ' data-ep-a='&#114\;&#101\;&#99\;&#114\;'><span data-ep-a='&#101\;&#97\;t&
 #105\;' data-ep-b='&#97\;s&#103\;&#111\;'><span data-ep-a='o&#110\;&#64\;&
 #110\;' data-ep-b='&#101\;&#119\;&#103\;l'></span></span></span></span><sc
 ript>RegularLabs.EmailProtector.unCloak('ep_043a9d4a')\;</script><span cla
 ss='cloaked_email ep_7cb3a34d' style='display:none\;'><span data-ep-b='&#1
 19\;&#46\;&#99\;a' data-ep-a='r&#101\;&#99\;r'><span data-ep-a='&#101\;&#9
 7\;&#116\;i' data-ep-b='&#97\;&#115\;g&#111\;'><span data-ep-a='&#111\;n&#
 64\;&#110\;' data-ep-b='&#101\;wg&#108\;'></span></span></span></span></a>
 <script>RegularLabs.EmailProtector.unCloak('ep_7cb3a34d'\, true)\;</script
 >.</p>\n<p>Don't forget to wear your Halloween costume!</p>
DTSTART;TZID=America/Halifax:20211030T090000
DTEND;TZID=America/Halifax:20211030T100000
SUMMARY:Halloween Hike & Pumpkin Carving
URL:https://stellarton.ca/38-special-events/5946-halloween-hike-pumpkin-car
 ving.html
X-ALT-DESC;FMTTYPE=TEXT/HTML:<p>The Towns of New Glasgow &amp\; Stellarton 
 will be hosting a Halloween Hike complete with pumpkin carving on the Albi
 on and Samson Trails.</p>\n<p>Participants will meet at Sobeys Head Office
  (123 North Foord Street) at 9:00am and will walk 2km out and back (4km to
 tal). Pumpkin carving will take place at Rotary Park before returning to S
 obeys Head Office.</p>\n<p>Pre-registration is required. To register\, con
 tact (902) 755-8363 or <!-- This email address is being protected from spa
 mbots. --><a href='javascript:/* This email address is being protected fro
 m spambots.*/'><span class='cloaked_email ep_043a9d4a'><span data-ep-b='w&
 #46\;&#99\;&#97\;' data-ep-a='&#114\;&#101\;&#99\;&#114\;'><span data-ep-a
 ='&#101\;&#97\;t&#105\;' data-ep-b='&#97\;s&#103\;&#111\;'><span data-ep-a
 ='o&#110\;&#64\;&#110\;' data-ep-b='&#101\;&#119\;&#103\;l'></span></span>
 </span></span><script>RegularLabs.EmailProtector.unCloak('ep_043a9d4a')\;<
 /script><span class='cloaked_email ep_7cb3a34d' style='display:none\;'><sp
 an data-ep-b='&#119\;&#46\;&#99\;a' data-ep-a='r&#101\;&#99\;r'><span data
 -ep-a='&#101\;&#97\;&#116\;i' data-ep-b='&#97\;&#115\;g&#111\;'><span data
 -ep-a='&#111\;n&#64\;&#110\;' data-ep-b='&#101\;wg&#108\;'></span></span><
 /span></span></a><script>RegularLabs.EmailProtector.unCloak('ep_7cb3a34d'\
 , true)\;</script>.</p>\n<p>Don't forget to wear your Halloween costume!</
 p>
END:VEVENT
END:VCALENDAR
