BEGIN:VCALENDAR
VERSION:2.0
PRODID:-//https://stellarton.ca//NONSGML kigkonsult.se iCalcreator 2.29.29/
 /
CALSCALE:GREGORIAN
METHOD:PUBLISH
UID:8b48bb6c-82ff-4303-b7e3-312d53c20d7a
X-WR-CALNAME:JCal Pro Calendar
X-WR-CALDESC:Your online events calendar
X-WR-TIMEZONE:America/Halifax
BEGIN:VTIMEZONE
TZID:America/Halifax
BEGIN:STANDARD
TZNAME:AST
DTSTART:20251102T020000
TZOFFSETFROM:-0300
TZOFFSETTO:-0400
RDATE:20261101T020000
END:STANDARD
BEGIN:DAYLIGHT
TZNAME:ADT
DTSTART:20260308T020000
TZOFFSETFROM:-0400
TZOFFSETTO:-0300
RDATE:20270314T020000
END:DAYLIGHT
END:VTIMEZONE
BEGIN:VEVENT
UID:20201014T090000ADT-1943j3pNAP@https://stellarton.ca/
DTSTAMP:20260422T085007Z
CATEGORIES:Special Events
DESCRIPTION:<p>Due to COVID-19 restrictions\, those wishing to take part mu
 st pre-register to attend by calling 902-752-2114.&nbsp\;</p>\n<p>More inf
 ormation and available properties can be found here:&nbsp\;<a href='town-o
 f-stellarton-tax-sale-october-14-2020.html'>https://stellarton.ca/town-of-
 stellarton-tax-sale-october-14-2020.html</a></p>
DTSTART;TZID=America/Halifax:20201014T090000
DTEND;TZID=America/Halifax:20201014T100000
SUMMARY:2020 Tax Sale
URL:https://stellarton.ca/38-special-events/5913-2020-tax-sale.html
X-ALT-DESC;FMTTYPE=TEXT/HTML:<p>Due to COVID-19 restrictions\, those wishin
 g to take part must pre-register to attend by calling 902-752-2114.&nbsp\;
 </p>\n<p>More information and available properties can be found here:&nbsp
 \;<a href='town-of-stellarton-tax-sale-october-14-2020.html'>https://stell
 arton.ca/town-of-stellarton-tax-sale-october-14-2020.html</a></p>
END:VEVENT
END:VCALENDAR
