BEGIN:VCALENDAR
VERSION:2.0
PRODID:-//https://stellarton.ca//NONSGML kigkonsult.se iCalcreator 2.29.29/
 /
CALSCALE:GREGORIAN
METHOD:PUBLISH
UID:1c440ea1-0974-4c96-b94d-f3a349f5a87c
X-WR-CALNAME:JCal Pro Calendar
X-WR-CALDESC:Your online events calendar
X-WR-TIMEZONE:America/Halifax
BEGIN:VTIMEZONE
TZID:America/Halifax
BEGIN:STANDARD
TZNAME:AST
DTSTART:20251102T020000
TZOFFSETFROM:-0300
TZOFFSETTO:-0400
RDATE:20261101T020000
END:STANDARD
BEGIN:DAYLIGHT
TZNAME:ADT
DTSTART:20260308T020000
TZOFFSETFROM:-0400
TZOFFSETTO:-0300
RDATE:20270314T020000
END:DAYLIGHT
END:VTIMEZONE
BEGIN:VEVENT
UID:20260914T173000ADT-0629UV7oj3@https://stellarton.ca/
DTSTAMP:20260422T100103Z
CATEGORIES:Council Meetings
DTSTART;TZID=America/Halifax:20260914T173000
DTEND;TZID=America/Halifax:20260914T183000
SUMMARY:Town Council
URL:https://stellarton.ca/36-council-meetings/6117-town-council.html
END:VEVENT
END:VCALENDAR
