BEGIN:VCALENDAR
VERSION:2.0
PRODID:-//https://stellarton.ca//NONSGML kigkonsult.se iCalcreator 2.29.29/
 /
CALSCALE:GREGORIAN
METHOD:PUBLISH
UID:d2749dd1-52d7-4817-b024-f40c38b6d2a0
X-WR-CALNAME:JCal Pro Calendar
X-WR-CALDESC:Your online events calendar
X-WR-TIMEZONE:America/Halifax
BEGIN:VTIMEZONE
TZID:America/Halifax
BEGIN:STANDARD
TZNAME:AST
DTSTART:20251102T020000
TZOFFSETFROM:-0300
TZOFFSETTO:-0400
RDATE:20261101T020000
END:STANDARD
BEGIN:DAYLIGHT
TZNAME:ADT
DTSTART:20260308T020000
TZOFFSETFROM:-0400
TZOFFSETTO:-0300
RDATE:20270314T020000
END:DAYLIGHT
END:VTIMEZONE
BEGIN:VEVENT
UID:20250210T173000AST-2620cCA3Tb@https://stellarton.ca/
DTSTAMP:20260422T103417Z
CATEGORIES:Council Meetings
DESCRIPTION:<p>For meeting agenda:&nbsp\;<a href='council-i/council-meeting
 -agendas/agendas-2025/787-02-10-2025-council/file.html'>February Council 2
 025</a></p>\n<p>Location: Town Hall</p>
DTSTART;TZID=America/Halifax:20250210T173000
DTEND;TZID=America/Halifax:20250210T183000
SUMMARY:Town Council
URL:https://stellarton.ca/36-council-meetings/6066-town-council.html
X-ALT-DESC;FMTTYPE=TEXT/HTML:<p>For meeting agenda:&nbsp\;<a href='council-
 i/council-meeting-agendas/agendas-2025/787-02-10-2025-council/file.html'>F
 ebruary Council 2025</a></p>\n<p>Location: Town Hall</p>
END:VEVENT
END:VCALENDAR
