BEGIN:VCALENDAR
VERSION:2.0
PRODID:-//https://stellarton.ca//NONSGML kigkonsult.se iCalcreator 2.29.29/
 /
CALSCALE:GREGORIAN
METHOD:PUBLISH
UID:2d193a86-3244-4fa0-a7df-8687833bbe7f
X-WR-CALNAME:JCal Pro Calendar
X-WR-CALDESC:Your online events calendar
X-WR-TIMEZONE:America/Halifax
BEGIN:VTIMEZONE
TZID:America/Halifax
BEGIN:STANDARD
TZNAME:AST
DTSTART:20251102T020000
TZOFFSETFROM:-0300
TZOFFSETTO:-0400
RDATE:20261101T020000
END:STANDARD
BEGIN:DAYLIGHT
TZNAME:ADT
DTSTART:20260308T020000
TZOFFSETFROM:-0400
TZOFFSETTO:-0300
RDATE:20270314T020000
END:DAYLIGHT
END:VTIMEZONE
BEGIN:VEVENT
UID:20240108T173000AST-1047Nduodo@https://stellarton.ca/
DTSTAMP:20260421T095805Z
CATEGORIES:Council Meetings
DESCRIPTION:<p>For the full meeting agenda:&nbsp\;<a href='council-i/counci
 l-meeting-agendas/agendas-2024/700-01-08-2024-council/file.html'>January C
 ouncil 2024</a></p>
DTSTART;TZID=America/Halifax:20240108T173000
DTEND;TZID=America/Halifax:20240108T183000
SUMMARY:Council Meeting
URL:https://stellarton.ca/36-council-meetings/6040-council-meeting.html
X-ALT-DESC;FMTTYPE=TEXT/HTML:<p>For the full meeting agenda:&nbsp\;<a href=
 'council-i/council-meeting-agendas/agendas-2024/700-01-08-2024-council/fil
 e.html'>January Council 2024</a></p>
END:VEVENT
END:VCALENDAR
