BEGIN:VCALENDAR
VERSION:2.0
PRODID:-//https://stellarton.ca//NONSGML kigkonsult.se iCalcreator 2.29.29/
 /
CALSCALE:GREGORIAN
METHOD:PUBLISH
UID:a48a845f-ad77-4c93-a3c8-5b8231008f4f
X-WR-CALNAME:JCal Pro Calendar
X-WR-CALDESC:Your online events calendar
X-WR-TIMEZONE:America/Halifax
BEGIN:VTIMEZONE
TZID:America/Halifax
BEGIN:STANDARD
TZNAME:AST
DTSTART:20251102T020000
TZOFFSETFROM:-0300
TZOFFSETTO:-0400
RDATE:20261101T020000
END:STANDARD
BEGIN:DAYLIGHT
TZNAME:ADT
DTSTART:20260308T020000
TZOFFSETFROM:-0400
TZOFFSETTO:-0300
RDATE:20270314T020000
END:DAYLIGHT
END:VTIMEZONE
BEGIN:VEVENT
UID:20231023T170000ADT-5779gaIOGi@https://stellarton.ca/
DTSTAMP:20260421T111229Z
CATEGORIES:Council Meetings
DESCRIPTION:<p>For full agenda:&nbsp\;<a href='council-ii-and-special-meeti
 ngs/special-meetings/671-10-23-2023-public-hearing-agenda/file.html'>Octob
 er Public Hearing Agenda 2023</a></p>
DTSTART;TZID=America/Halifax:20231023T170000
DTEND;TZID=America/Halifax:20231023T180000
SUMMARY:Public Hearing
URL:https://stellarton.ca/36-council-meetings/6039-public-hearing.html
X-ALT-DESC;FMTTYPE=TEXT/HTML:<p>For full agenda:&nbsp\;<a href='council-ii-
 and-special-meetings/special-meetings/671-10-23-2023-public-hearing-agenda
 /file.html'>October Public Hearing Agenda 2023</a></p>
END:VEVENT
END:VCALENDAR
