BEGIN:VCALENDAR
VERSION:2.0
PRODID:-//https://stellarton.ca//NONSGML kigkonsult.se iCalcreator 2.29.29/
 /
CALSCALE:GREGORIAN
METHOD:PUBLISH
UID:114a9f7e-40b4-4874-9007-af68e92e9d47
X-WR-CALNAME:JCal Pro Calendar
X-WR-CALDESC:Your online events calendar
X-WR-TIMEZONE:America/Halifax
BEGIN:VTIMEZONE
TZID:America/Halifax
BEGIN:STANDARD
TZNAME:AST
DTSTART:20251102T020000
TZOFFSETFROM:-0300
TZOFFSETTO:-0400
RDATE:20261101T020000
END:STANDARD
BEGIN:DAYLIGHT
TZNAME:ADT
DTSTART:20260308T020000
TZOFFSETFROM:-0400
TZOFFSETTO:-0300
RDATE:20270314T020000
END:DAYLIGHT
END:VTIMEZONE
BEGIN:VEVENT
UID:20201013T173000ADT-3134Fvrk9v@https://stellarton.ca/
DTSTAMP:20260422T130533Z
CATEGORIES:Council Meetings
DTSTART;TZID=America/Halifax:20201013T173000
DTEND;TZID=America/Halifax:20201013T183000
SUMMARY:Council Meeting
URL:https://stellarton.ca/36-council-meetings/5911-council-meeting.html
END:VEVENT
END:VCALENDAR
